BEGIN:VCALENDAR

VERSION:2.0

PRODID:-//hacksw/handcal//NONSGML v1.0//EN

BEGIN:VEVENT

UID:8b0075fed5af03fb8d4a092b0973c528

DTSTAMP:20210226T172917Z

DTSTART:20210227T143000

DTEND:20210227T150000

SUMMARY:22126959 - 10/14 Lever Street, ALBION QLD 4010

LOCATION:10/14 Lever Street, ALBION QLD 4010

END:VEVENT

END:VCALENDAR