BEGIN:VCALENDAR

VERSION:2.0

PRODID:-//hacksw/handcal//NONSGML v1.0//EN

BEGIN:VEVENT

UID:bbba3aec41baaa93a84351bd9865cc2c

DTSTAMP:20210226T172858Z

DTSTART:20210227T130000

DTEND:20210227T140000

SUMMARY:22342601 - 43 Creswick Street, CLAYFIELD QLD 4011

LOCATION:43 Creswick Street, CLAYFIELD QLD 4011

END:VEVENT

END:VCALENDAR