BEGIN:VCALENDAR

VERSION:2.0

PRODID:-//hacksw/handcal//NONSGML v1.0//EN

BEGIN:VEVENT

UID:9a7e4a4a20b323582e37f0fa5b94df15

DTSTAMP:20210226T172812Z

DTSTART:20210227T120000

DTEND:20210227T123000

SUMMARY:L3938706 - 11 Killara Avenue, HAMILTON QLD 4007

LOCATION:11 Killara Avenue, HAMILTON QLD 4007

END:VEVENT

END:VCALENDAR