BEGIN:VCALENDAR

VERSION:2.0

PRODID:-//hacksw/handcal//NONSGML v1.0//EN

BEGIN:VEVENT

UID:ebf82881c10ba209b07ac8899e5be6a9

DTSTAMP:20210226T172832Z

DTSTART:20210227T120000

DTEND:20210227T123000

SUMMARY:L4285174 - 8/15 Killara Avenue, HAMILTON QLD 4007

LOCATION:8/15 Killara Avenue, HAMILTON QLD 4007

END:VEVENT

END:VCALENDAR