BEGIN:VCALENDAR

VERSION:2.0

PRODID:-//hacksw/handcal//NONSGML v1.0//EN

BEGIN:VEVENT

UID:8ef1e762363e4a464227990a54721f87

DTSTAMP:20210226T172728Z

DTSTART:20210227T093000

DTEND:20210227T100000

SUMMARY:L4923069 - 22 Goldsworthy Avenue, HAMILTON QLD 4007

LOCATION:22 Goldsworthy Avenue, HAMILTON QLD 4007

END:VEVENT

END:VCALENDAR