BEGIN:VCALENDAR

VERSION:2.0

PRODID:-//hacksw/handcal//NONSGML v1.0//EN

BEGIN:VEVENT

UID:35f7bb088740fe9a1fd637f64573aa30

DTSTAMP:20210226T172753Z

DTSTART:20210227T110000

DTEND:20210227T113000

SUMMARY:L5385494 - 99 Adelaide Street East, CLAYFIELD QLD 4011

LOCATION:99 Adelaide Street East, CLAYFIELD QLD 4011

END:VEVENT

END:VCALENDAR