BEGIN:VCALENDAR

VERSION:2.0

PRODID:-//hacksw/handcal//NONSGML v1.0//EN

BEGIN:VEVENT

UID:36119e354b83afc0c5179e9954b1c873

DTSTAMP:20210226T171216Z

DTSTART:20210314T000000

DTEND:20210314T000000

SUMMARY:L5385494 - 99 Adelaide Street East, CLAYFIELD QLD 4011

LOCATION:99 Adelaide Street East, CLAYFIELD QLD 4011

END:VEVENT

END:VCALENDAR